BEGIN:VCALENDAR
VERSION:2.0
PRODID:-//AAUCA - ECPv6.15.17.1//NONSGML v1.0//EN
CALSCALE:GREGORIAN
METHOD:PUBLISH
X-WR-CALNAME:AAUCA
X-ORIGINAL-URL:https://aaucauniversity.com
X-WR-CALDESC:Eventos para AAUCA
REFRESH-INTERVAL;VALUE=DURATION:PT1H
X-Robots-Tag:noindex
X-PUBLISHED-TTL:PT1H
BEGIN:VTIMEZONE
TZID:UTC
BEGIN:STANDARD
TZOFFSETFROM:+0000
TZOFFSETTO:+0000
TZNAME:UTC
DTSTART:20240101T000000
END:STANDARD
END:VTIMEZONE
BEGIN:VEVENT
DTSTART;TZID=UTC:20251022T080000
DTEND;TZID=UTC:20260822T170000
DTSTAMP:20260421T102052
CREATED:20250805T140127Z
LAST-MODIFIED:20251020T160658Z
UID:4943-1761120000-1787418000@aaucauniversity.com
SUMMARY:Calendario Académico 2025-2026
DESCRIPTION:
URL:https://aaucauniversity.com/evento/calendario-academico-2025-2026/
CATEGORIES:Evento
ATTACH;FMTTYPE=image/jpeg:https://aaucauniversity.com/wp-content/uploads/2023/07/slide4.jpg
END:VEVENT
BEGIN:VEVENT
DTSTART;TZID=UTC:20260417T080000
DTEND;TZID=UTC:20260508T170000
DTSTAMP:20260421T102052
CREATED:20260417T162653Z
LAST-MODIFIED:20260417T164115Z
UID:5207-1776412800-1778259600@aaucauniversity.com
SUMMARY:Oferta Docente Aauca 2026-2027
DESCRIPTION:VER LA OFERTA
URL:https://aaucauniversity.com/evento/oferta-docente-aauca-2026-2027/
CATEGORIES:Evento
ATTACH;FMTTYPE=image/jpeg:https://aaucauniversity.com/wp-content/uploads/2023/07/BANNER-AAUCA-3.jpg
END:VEVENT
END:VCALENDAR